BEGIN:VCALENDAR
VERSION:2.0
PRODID:-//YourCompany//YourProduct//EN
BEGIN:VEVENT
UID:1f635a23aa3f4a0004a48140aa9eabf8@yourdomain.com
DTSTAMP:20260523
DTSTART;VALUE=DATE:20260523
DTEND;VALUE=DATE:20260523
SUMMARY:Ronde 4 : L'Haÿ-les-Roses et Joinville
DESCRIPTION:
LOCATION:
END:VEVENT
END:VCALENDAR
