BEGIN:VCALENDAR
VERSION:2.0
PRODID:-//YourCompany//YourProduct//EN
BEGIN:VEVENT
UID:88cd6f0caac9e6e56d47e5f320d08511@yourdomain.com
DTSTAMP:20260627
DTSTART;VALUE=DATE:20260627
DTEND;VALUE=DATE:20260627
SUMMARY:Ronde 6 Avon
DESCRIPTION:
LOCATION:
END:VEVENT
END:VCALENDAR
