BEGIN:VCALENDAR
VERSION:2.0
PRODID:-//YourCompany//YourProduct//EN
BEGIN:VEVENT
UID:28bbb94f31e730bffc1c6f4a34340af6@yourdomain.com
DTSTAMP:20260621
DTSTART;VALUE=DATE:20260621
DTEND;VALUE=DATE:20260621
SUMMARY:Ronde 5 Lisses
DESCRIPTION:
LOCATION:
END:VEVENT
END:VCALENDAR
