BEGIN:VCALENDAR
VERSION:2.0
PRODID:-//YourCompany//YourProduct//EN
BEGIN:VEVENT
UID:8e014cf4a4699eb6e95cd4ce3a9ee241@yourdomain.com
DTSTAMP:20260704
DTSTART;VALUE=DATE:20260704
DTEND;VALUE=DATE:20260704
SUMMARY:Festival des Estivales de Yerres
DESCRIPTION:
LOCATION:Yerres
END:VEVENT
END:VCALENDAR
