BEGIN:VCALENDAR
VERSION:2.0
PRODID:-//YourCompany//YourProduct//EN
BEGIN:VEVENT
UID:81ef181db038e92a40f7dc2fdd71979c@yourdomain.com
DTSTAMP:20260705
DTSTART;VALUE=DATE:20260705
DTEND;VALUE=DATE:20260705
SUMMARY:Festival des Estivales de Yerres
DESCRIPTION:
LOCATION:Yerres
END:VEVENT
END:VCALENDAR
